BEGIN:VCALENDAR
VERSION:2.0
PRODID:-//Kellener Schützenverein e.V.//NONSGML kigkonsult.se iCalcreator 2
 .30.10//
CALSCALE:GREGORIAN
METHOD:PUBLISH
UID:7296b9d8-f197-41cb-afad-118be19a4b7c
X-WR-CALNAME:iCagenda
X-WR-CALDESC:Event Management Extension for Joomla!
X-WR-RELCALID:3E26604A-50F4-4449-8B3E-E4F4932D05B5
X-WR-TIMEZONE:UTC
BEGIN:VTIMEZONE
TZID:UTC
END:VTIMEZONE
BEGIN:VEVENT
UID:f89e5e1f-f765-4fda-89ac-652af25f9f5a
DTSTAMP:20260425T145735Z
CATEGORIES:Ranglistenschießen
CLASS:PUBLIC
DESCRIPTION:
DTSTART:20260313T190000Z
DTEND:20260313T210000Z
GEO:00;0
LOCATION:
ORGANIZER:
SEQUENCE:1
SUMMARY:Ranglistenschießen
TRANSP:OPAQUE
URL:https://www.kellenerschuetzenverein.de/index.php/kalender/53-2023-08-22
 -09-01-30?iccaldate=2026-5-1
END:VEVENT
END:VCALENDAR
