BEGIN:VCALENDAR
VERSION:2.0
PRODID:-//Kellener Schützenverein e.V.//NONSGML kigkonsult.se iCalcreator 2
 .30.10//
CALSCALE:GREGORIAN
METHOD:PUBLISH
UID:b7855789-feb8-4c57-afe4-4c54342a33a0
X-WR-CALNAME:iCagenda
X-WR-CALDESC:Event Management Extension for Joomla!
X-WR-RELCALID:3E26604A-50F4-4449-8B3E-E4F4932D05B5
X-WR-TIMEZONE:UTC
BEGIN:VTIMEZONE
TZID:UTC
END:VTIMEZONE
BEGIN:VEVENT
UID:4d6887f4-9c81-4846-8bcf-07b7fc445679
DTSTAMP:20260425T173830Z
CATEGORIES:LG- / KK-Latte
CLASS:PUBLIC
DESCRIPTION:
DTSTART:20260109T190000Z
DTEND:20260109T210000Z
GEO:00;0
LOCATION:
ORGANIZER:
SEQUENCE:1
SUMMARY:5. Wertung Luftgewehr und Kleinkaliber - Latte
TRANSP:OPAQUE
URL:https://www.kellenerschuetzenverein.de/index.php/component/icagenda/79-
 5-wertung-luftgewehr-und-kleinkaliber-latte
END:VEVENT
END:VCALENDAR
