BEGIN:VCALENDAR
VERSION:2.0
PRODID:-//Kellener Schützenverein e.V.//NONSGML kigkonsult.se iCalcreator 2
 .30.10//
CALSCALE:GREGORIAN
METHOD:PUBLISH
UID:04fa5d53-0cf9-484e-b754-4980cebef6b2
X-WR-CALNAME:iCagenda
X-WR-CALDESC:Event Management Extension for Joomla!
X-WR-RELCALID:3E26604A-50F4-4449-8B3E-E4F4932D05B5
X-WR-TIMEZONE:UTC
BEGIN:VTIMEZONE
TZID:UTC
END:VTIMEZONE
BEGIN:VEVENT
UID:8422609d-bd31-4c07-adbc-1f3517b20723
DTSTAMP:20260425T173638Z
CATEGORIES:Ranglistenschießen
CLASS:PUBLIC
DESCRIPTION:
DTSTART:20260116T190000Z
DTEND:20260116T210000Z
GEO:00;0
LOCATION:
ORGANIZER:
SEQUENCE:1
SUMMARY:Ranglistenschießen
TRANSP:OPAQUE
URL:https://www.kellenerschuetzenverein.de/index.php/component/icagenda/49-
 2023-08-22-08-59-58
END:VEVENT
END:VCALENDAR
