BEGIN:VCALENDAR
VERSION:2.0
PRODID:-//Kellener Schützenverein e.V.//NONSGML kigkonsult.se iCalcreator 2
 .30.10//
CALSCALE:GREGORIAN
METHOD:PUBLISH
UID:247e0b3a-df81-4ef3-9d0b-291d8136feb1
X-WR-CALNAME:iCagenda
X-WR-CALDESC:Event Management Extension for Joomla!
X-WR-RELCALID:3E26604A-50F4-4449-8B3E-E4F4932D05B5
X-WR-TIMEZONE:UTC
BEGIN:VTIMEZONE
TZID:UTC
END:VTIMEZONE
BEGIN:VEVENT
UID:2aaaa722-b7a3-442f-b518-7c826b983b60
DTSTAMP:20260425T191414Z
CATEGORIES:Ranglistenschießen
CLASS:PUBLIC
DESCRIPTION:
DTSTART:20251205T190000Z
DTEND:20251205T210000Z
GEO:00;0
LOCATION:
ORGANIZER:
SEQUENCE:1
SUMMARY:Ranglistenschießen
TRANSP:OPAQUE
URL:https://www.kellenerschuetzenverein.de/index.php/component/icagenda/46-
 2023-08-22-08-59-00
END:VEVENT
END:VCALENDAR
