BEGIN:VCALENDAR
VERSION:2.0
PRODID:-//Kellener Schützenverein e.V.//NONSGML kigkonsult.se iCalcreator 2
 .30.10//
CALSCALE:GREGORIAN
METHOD:PUBLISH
UID:ccaa5cea-d955-4243-8ea7-ae1284e1a6de
X-WR-CALNAME:iCagenda
X-WR-CALDESC:Event Management Extension for Joomla!
X-WR-RELCALID:3E26604A-50F4-4449-8B3E-E4F4932D05B5
X-WR-TIMEZONE:UTC
BEGIN:VTIMEZONE
TZID:UTC
END:VTIMEZONE
BEGIN:VEVENT
UID:580f5f7c-ea86-4c03-844a-3bb58dbca4ff
DTSTAMP:20260425T223848Z
CATEGORIES:Vereinswertung
CLASS:PUBLIC
DESCRIPTION:
DTSTART:20251012T100000Z
DTEND:20251012T120000Z
GEO:00;0
LOCATION:
ORGANIZER:
SEQUENCE:1
SUMMARY:3. Wertung
TRANSP:OPAQUE
URL:https://www.kellenerschuetzenverein.de/index.php/component/icagenda/17-
 2023-08-22-08-40-00
END:VEVENT
END:VCALENDAR
