BEGIN:VCALENDAR
VERSION:2.0
PRODID:-//Kellener Schützenverein e.V.//NONSGML kigkonsult.se iCalcreator 2
 .30.10//
CALSCALE:GREGORIAN
METHOD:PUBLISH
UID:fc39aa08-967f-4678-9f2d-3a76a62fd5f8
X-WR-CALNAME:iCagenda
X-WR-CALDESC:Event Management Extension for Joomla!
X-WR-RELCALID:3E26604A-50F4-4449-8B3E-E4F4932D05B5
X-WR-TIMEZONE:UTC
BEGIN:VTIMEZONE
TZID:UTC
END:VTIMEZONE
BEGIN:VEVENT
UID:b9213808-96f4-4313-92ae-c1a398ea8398
DTSTAMP:20260425T171726Z
CATEGORIES:LG- / KK-Latte
CLASS:PUBLIC
DESCRIPTION:
DTSTART:20260111T100000Z
DTEND:20260111T120000Z
GEO:00;0
LOCATION:
ORGANIZER:
SEQUENCE:1
SUMMARY:5. Wertung Luftgewehr und Kleinkaliber - Latte
TRANSP:OPAQUE
URL:https://www.kellenerschuetzenverein.de/index.php/component/icagenda/13-
 2023-08-22-08-45-06
END:VEVENT
END:VCALENDAR
