BEGIN:VCALENDAR
VERSION:2.0
PRODID:-//Kellener Schützenverein e.V.//NONSGML kigkonsult.se iCalcreator 2
 .30.10//
CALSCALE:GREGORIAN
METHOD:PUBLISH
UID:784e7d2c-2bfe-4021-a433-a88b35fea4f9
X-WR-CALNAME:iCagenda
X-WR-CALDESC:Event Management Extension for Joomla!
X-WR-RELCALID:3E26604A-50F4-4449-8B3E-E4F4932D05B5
X-WR-TIMEZONE:UTC
BEGIN:VTIMEZONE
TZID:UTC
END:VTIMEZONE
BEGIN:VEVENT
UID:8a03c829-4d53-4944-9a34-620f9251b78f
DTSTAMP:20260425T134513Z
CATEGORIES:Ranglistenschießen
CLASS:PUBLIC
DESCRIPTION:
DTSTART:20260327T190000Z
DTEND:20260327T210000Z
GEO:00;0
LOCATION:
ORGANIZER:
SEQUENCE:1
SUMMARY:Ranglistenschießen
TRANSP:OPAQUE
URL:https://www.kellenerschuetzenverein.de/index.php/kalender/56-2023-08-22
 -09-02-56?iccaldate=2026-3-1
END:VEVENT
END:VCALENDAR
