BEGIN:VCALENDAR
VERSION:2.0
PRODID:-//Kellener Schützenverein e.V.//NONSGML kigkonsult.se iCalcreator 2
 .30.10//
CALSCALE:GREGORIAN
METHOD:PUBLISH
UID:d879f12e-c1b2-426d-b7f0-ebd4b4348959
X-WR-CALNAME:iCagenda
X-WR-CALDESC:Event Management Extension for Joomla!
X-WR-RELCALID:3E26604A-50F4-4449-8B3E-E4F4932D05B5
X-WR-TIMEZONE:UTC
BEGIN:VTIMEZONE
TZID:UTC
END:VTIMEZONE
BEGIN:VEVENT
UID:980ef5ec-7839-4828-aeee-4d37accd6587
DTSTAMP:20260422T140104Z
CATEGORIES:LG- / KK-Latte
CLASS:PUBLIC
DESCRIPTION:
DTSTART:20251109T100000Z
DTEND:20251109T120000Z
GEO:00;0
LOCATION:
ORGANIZER:
SEQUENCE:1
SUMMARY:3. Wertung Luftgewehr und Kleinkaliber - Latte
TRANSP:OPAQUE
URL:https://www.kellenerschuetzenverein.de/index.php/kalender/11-2023-08-22
 -08-44-31?iccaldate=2026-5-1
END:VEVENT
END:VCALENDAR
