BEGIN:VCALENDAR
VERSION:2.0
PRODID:-//Kellener Schützenverein e.V.//NONSGML kigkonsult.se iCalcreator 2
 .30.10//
CALSCALE:GREGORIAN
METHOD:PUBLISH
UID:1d5e8dbc-52a1-496c-b8ca-e1c276e069a7
X-WR-CALNAME:iCagenda
X-WR-CALDESC:Event Management Extension for Joomla!
X-WR-RELCALID:3E26604A-50F4-4449-8B3E-E4F4932D05B5
X-WR-TIMEZONE:UTC
BEGIN:VTIMEZONE
TZID:UTC
END:VTIMEZONE
BEGIN:VEVENT
UID:4f42159c-f7a3-47a0-a159-ab93319afeb4
DTSTAMP:20260426T001111Z
CATEGORIES:Ranglistenschießen
CLASS:PUBLIC
DESCRIPTION:
DTSTART:20250926T190000Z
DTEND:20250926T210000Z
GEO:00;0
LOCATION:
ORGANIZER:
SEQUENCE:1
SUMMARY:Ranglistenschießen
TRANSP:OPAQUE
URL:https://www.kellenerschuetzenverein.de/index.php/component/icagenda/45-
 ranglistenschiessen-4
END:VEVENT
END:VCALENDAR
