BEGIN:VCALENDAR
VERSION:2.0
PRODID:-//Kellener Schützenverein e.V.//NONSGML kigkonsult.se iCalcreator 2
 .30.10//
CALSCALE:GREGORIAN
METHOD:PUBLISH
UID:38f57416-93ee-4fde-a090-aca751d310b1
X-WR-CALNAME:iCagenda
X-WR-CALDESC:Event Management Extension for Joomla!
X-WR-RELCALID:3E26604A-50F4-4449-8B3E-E4F4932D05B5
X-WR-TIMEZONE:UTC
BEGIN:VTIMEZONE
TZID:UTC
END:VTIMEZONE
BEGIN:VEVENT
UID:88692499-f3ec-4f5d-829d-87ca9abe37b7
DTSTAMP:20260422T090508Z
CATEGORIES:Vereinswertung
CLASS:PUBLIC
DESCRIPTION:
DTSTART:20260612T190000Z
DTEND:20260612T210000Z
GEO:00;0
LOCATION:
ORGANIZER:
SEQUENCE:1
SUMMARY:11. Wertung
TRANSP:OPAQUE
URL:https://www.kellenerschuetzenverein.de/index.php/component/icagenda/34-
 2023-08-22-08-53-15
END:VEVENT
END:VCALENDAR
